BEGIN:VCALENDAR
VERSION:2.0
PRODID:-//Dark Schlager - ECPv6.15.20//NONSGML v1.0//EN
CALSCALE:GREGORIAN
METHOD:PUBLISH
X-ORIGINAL-URL:https://darkschlager.de
X-WR-CALDESC:Veranstaltungen für Dark Schlager
REFRESH-INTERVAL;VALUE=DURATION:PT1H
X-Robots-Tag:noindex
X-PUBLISHED-TTL:PT1H
BEGIN:VTIMEZONE
TZID:UTC
BEGIN:STANDARD
TZOFFSETFROM:+0000
TZOFFSETTO:+0000
TZNAME:UTC
DTSTART:20250101T000000
END:STANDARD
END:VTIMEZONE
BEGIN:VEVENT
DTSTART;TZID=UTC:20260709T193000
DTEND;TZID=UTC:20260709T193000
DTSTAMP:20260426T025914
CREATED:20251024T150428Z
LAST-MODIFIED:20251024T150914Z
UID:4926-1783625400-1783625400@darkschlager.de
SUMMARY:9. Eva Luginger Schlagernacht
DESCRIPTION:mit dabei: \nDonnerstag : 09.07.2026                    \n\nFantasy\nStefan Mross\nMisha Kovar\nMarco Ventre\nSebastian Reich & Amanda und Monique\n\n  \nEinlass:  18:00 Uhr  Beginn: 19:30 Uhr \n  \ntickets:https://www.eventim.de/artist/eva-luginger/?affiliate=GMT&fbclid=IwY2xjawNob1JleHRuA2FlbQIxMABicmlkETBzNFNZV1Y2azlUdWN4R3BaAR60u-UWdUAvqBc1ChyTB1exmsLzsVo0ItvbX0vP8j8afL7cubA6x_p_MsVuNw_aem_S-u0aKyvYXvv4ko726pZeg \nÄnderungen und Irrtümer vorbehalten! Änderungen vom Veranstaltungstermin oder des Veranstaltungsorts sind dem Veranstalter vorbehalten. Alle Angaben ohne Gewähr. Für nähere Angaben kontaktieren Sie bitte den Veranstalter oder dessen Homepage bevor Sie eine Veranstaltung besuchen.
URL:https://darkschlager.de/event/9-eva-luginger-schlagernacht/
LOCATION:Volksfest Taufkirchen (Vils)\, Hipolding 1\, Taufkirchen\, 84416
ATTACH;FMTTYPE=image/jpeg:https://darkschlager.de/wp-content/uploads/2025/10/9-.Eva-Luginger-Schlagernacht.jpg
END:VEVENT
BEGIN:VEVENT
DTSTART;TZID=UTC:20260710T193000
DTEND;TZID=UTC:20260711T010000
DTSTAMP:20260426T025914
CREATED:20251107T170630Z
LAST-MODIFIED:20251107T170637Z
UID:5029-1783711800-1783731600@darkschlager.de
SUMMARY:Rocknacht Döckingen mit den Schürzenjäger
DESCRIPTION:Freitag: 10.07.2026 von 19:30 bis 01:00 Uhr \nmit dabei: \n\ndie Schürzenjäger\ndie Apachentaler\n\n  \nEin Wochenende der Superlative im Herzen Bayerns! (Samstag und Sonntag Schlagernacht in Weiß) \nDer Freitag rockt! Bei der legendären  Rocknacht  heizen die Schürzenjäger und die Apachentaler dem Publikum ordentlich ein – echte Rockpower und Festivaltradition pur! \nÄnderungen und Irrtümer vorbehalten! Änderungen vom Veranstaltungstermin oder des Veranstaltungsorts sind dem Veranstalter vorbehalten. Alle Angaben ohne Gewähr. Für nähere Angaben kontaktieren Sie bitte den Veranstalter oder dessen Homepage\, bevor Sie eine Veranstaltung besuchen. \n 
URL:https://darkschlager.de/event/rocknacht-doeckingen-mit-den-schuerzenjaeger/
LOCATION:Eventpark Stadelmann\, Treuchtlinger Straße 9\, Döckingen\, 91805
ATTACH;FMTTYPE=image/png:https://darkschlager.de/wp-content/uploads/2025/11/Design-ohne-Titel.png
END:VEVENT
BEGIN:VEVENT
DTSTART;TZID=UTC:20260711T130000
DTEND;TZID=UTC:20260712T010000
DTSTAMP:20260426T025914
CREATED:20251026T144317Z
LAST-MODIFIED:20251026T144552Z
UID:4944-1783774800-1783818000@darkschlager.de
SUMMARY:Schlagernacht in Weiß 2026
DESCRIPTION:Samstag : 11.07.2026    von 13:00 bis 01:00 Uhr \nmit dabei: \n\nAndy Borg\, Fantasy\, Schlagerpiloten\, Die Jungen Zillertaler\nJulian Reim\, Ramona Martiness\, Joe Heindle\, Sunrise\, Nicki\nDie Roden Steiner\, Anni Perka\, Oliver Haidt\, Xanadoo\, Mitch Keller\nSusal\, Diana\, Wolfgang Nadrag\, Jenny van Bree\, Eva Luginger\,\nSimona\, Tanja Sommer\, Hansi Süssenbach\, Nadine Fabielle\,\nund Carsten Momber (Kult DJ)\n\n  \nErlebe die legendäre Schlagernacht in Weiß in Döckingen und feiere gemeinsam mit tausenden Schlagerfans die größten Hits deiner Stars. \nFür alle Gäste mit einem Ticket der Schlagernacht in Weiß ist der Eintritt für den Schlager-Frühschoppen (am 12.07.2025) kostenfrei!  \ntickets: https://schlagernachtinweiss.ticket.io/ejjcg0w3/? \nÄnderungen und Irrtümer vorbehalten! Änderungen vom Veranstaltungstermin oder des Veranstaltungsorts sind dem Veranstalter vorbehalten. Alle Angaben ohne Gewähr. Für nähere Angaben kontaktieren Sie bitte den Veranstalter oder dessen Homepage bevor Sie eine Veranstaltung besuchen.
URL:https://darkschlager.de/event/schlagernacht-in-weiss-2026/
LOCATION:Eventpark Stadelmann\, Treuchtlinger Straße 9\, Döckingen\, 91805
ATTACH;FMTTYPE=image/jpeg:https://darkschlager.de/wp-content/uploads/2025/10/Doeckingen-11.07.2025.jpg
ORGANIZER;CN="Eventpark Stadelmann":MAILTO:info@schlagernachtinweiss.de
END:VEVENT
BEGIN:VEVENT
DTSTART;TZID=UTC:20260711T150000
DTEND;TZID=UTC:20260711T150000
DTSTAMP:20260426T025914
CREATED:20251103T172353Z
LAST-MODIFIED:20251103T172353Z
UID:4997-1783782000-1783782000@darkschlager.de
SUMMARY:Waterworld Schlagernacht  - Das Open Air
DESCRIPTION:Samstag : 11.07.2026     \nBeginn 15:00 Uhr  Einlass: 13:00 Uhr \nmit dabei: \n\nSunrise\nHannah\nOliver Haid\nGraziano\nNew Romantic Band\,\nDJ Ernesto\n\n  \nDer Himmel über Ipsheim leuchtet am 11. Juli 2026 🌟 Am 11.07.2026 verwandelt sich Ipsheim für ein unvergessliches Sommerhighlight:  DIE WATERWORLD SCHLAGERNACHT – DAS OPEN AIR 🎶 \nErleben Sie einen Abend voller mitreißender Schlagerhits\, großartiger Stimmung und spektakulärer Showmomente. Freuen Sie sich auf eine einzigartiges Open-Air-Erlebnis mit bester Musik\, Sommerfeeling pur und einer Atmosphäre die begeistert. ☀️🎤💃 Als krönender Abschluss erwartet Sie eine atemberaubende Wasser- und Lasershow\, die den Himmel über Ipsheim in ein Meer aus Licht\, Farbe und Emotion verwandelt . \nSichern Sie sich jetzt Ihre Tickets und seien Sie dabei\, wenn die Stars der Schlagerszene die Bühne erobern! \nTickets: https://diginights.com/ticket/2026-07-11-waterworld-schlagernacht-das-openair-h-preiss-international-wasserallee-1-3-91472-ipsheim-deutschland/step/1 \nÄnderungen und Irrtümer vorbehalten! Änderungen vom Veranstaltungstermin oder des Veranstaltungsorts sind dem Veranstalter vorbehalten. Alle Angaben ohne Gewähr. Für nähere Angaben kontaktieren Sie bitte den Veranstalter oder dessen Homepage bevor Sie eine Veranstaltung besuchen.
URL:https://darkschlager.de/event/waterworld-schlagernacht-das-open-air/
LOCATION:H.Preiss International\, Wasserallee 1-3\, Ipsheim\, 91472
ATTACH;FMTTYPE=image/jpeg:https://darkschlager.de/wp-content/uploads/2025/11/Waterworld.jpg
END:VEVENT
BEGIN:VEVENT
DTSTART;TZID=UTC:20260712T100000
DTEND;TZID=UTC:20260712T160000
DTSTAMP:20260426T025914
CREATED:20251026T144224Z
LAST-MODIFIED:20251026T144618Z
UID:4953-1783850400-1783872000@darkschlager.de
SUMMARY:Schlagerfrühschoppen in Döckingen
DESCRIPTION:Sonntag : 12.07.2026    von 10:00 bis 16:00 Uhr  \nmit dabei: \n\nSusal\, Schlagerpiloten\, Sunrise\,\nStefan Dietl & die Aufdreher\, Mitsch Keller\,\nHeidi Schütz\, Jens Seidler\, Natalie Lament\nDie Roden Steiner\n\n  \nGenießt die festliche Atmosphäre in Weiß und taucht ein in die Welt des deutschen Schlagers. Der Schlagerfrühschoppen am Sonntagmorgen wird ein weiteres Highlight des Wochenende – mit guter Musik\, neuen Freundschaften und tollen Gesprächen über eure Lieblingshits! \nFür alle Gäste mit einem Ticket der Schlagernacht in Weiß ist der Eintritt für den Schlager-Frühschoppen kostenfrei!  \nAnsonsten Eintritt nur \n\n10 € pro Person\nDer Betrag ist vor Ort zu bezahlen (keine Vorkasse möglich).\n\ntickets: https://schlagernachtinweiss.de/schlagerfruehshoppen/ \nÄnderungen und Irrtümer vorbehalten! Änderungen vom Veranstaltungstermin oder des Veranstaltungsorts sind dem Veranstalter vorbehalten. Alle Angaben ohne Gewähr. Für nähere Angaben kontaktieren Sie bitte den Veranstalter oder dessen Homepage bevor Sie eine Veranstaltung besuchen.
URL:https://darkschlager.de/event/schlagerfruehschoppen-in-doeckingen/
LOCATION:Eventpark Stadelmann\, Treuchtlinger Straße 9\, Döckingen\, 91805
ATTACH;FMTTYPE=image/jpeg:https://darkschlager.de/wp-content/uploads/2025/10/Schlagerfruehshoppen.jpg
ORGANIZER;CN="Eventpark Stadelmann":MAILTO:info@schlagernachtinweiss.de
END:VEVENT
BEGIN:VEVENT
DTSTART;TZID=UTC:20260725T160000
DTEND;TZID=UTC:20260725T160000
DTSTAMP:20260426T025914
CREATED:20251202T150842Z
LAST-MODIFIED:20251202T150855Z
UID:5080-1784995200-1784995200@darkschlager.de
SUMMARY:Schlagernacht im Angus Stüble 73663 Berglen-Bretzenacker
DESCRIPTION:Samstag : 25.07.2026    Beginn 16:00  Einlass: 14:00 \nmit dabei: \n\nSarah-Ann\nMitsch Keller\nSusal\nTanja Lasch\nNeon\nDaniela Alfinito\nSunrise\nStefan Mross\n\n  \nTauche ein in die  Schlagernacht in Berglen! Das Schlager-Event\, das Herzen höherschlagen lässt! Gemeinsam mit vielen Fans feierst du die größten Hits deiner Stars und erlebst eine Partynacht\, die ihresgleichen sucht. \nNach dem überwältigenden Erfolg der Premiere setzt die 2. Schlagernacht in Berglen-Bretzenacker noch eins drauf: Noch mehr Stimmung\, noch mehr Emotionen\, noch mehr unvergessliche Momente! \nMit einem hochkarätigen Künstlerprogramm und einem Ambiente\, das pure Gänsehaut verspricht\, wird diese Nacht zum absoluten Highlight des Jahres. \nSei dabei\, wenn Berglen bebt! \nVorverkauf: Angus Stüble\, Berglen-Bretzenacker – Motorradservice Neuhäuser\, Talstraße 4\, 73547 Lorch –  Avia Tankstelle\, Erlenhof \nÄnderungen und Irrtümer vorbehalten! Änderungen vom Veranstaltungstermin oder des Veranstaltungsorts sind dem Veranstalter vorbehalten. Alle Angaben ohne Gewähr. Für nähere Angaben kontaktieren Sie bitte den Veranstalter oder dessen Homepage bevor Sie eine Veranstaltung besuchen.
URL:https://darkschlager.de/event/schlagernacht-im-angus-stueble-73663-berglen-bretzenacker/
LOCATION:Magnus Stüble\, Beetäcker 1\, Berglen-Bretzenacker\, 73663\, Germany
ATTACH;FMTTYPE=image/jpeg:https://darkschlager.de/wp-content/uploads/2025/12/Magnus-stueble-25.07.26.jpg
END:VEVENT
BEGIN:VEVENT
DTSTART;TZID=UTC:20260906T140000
DTEND;TZID=UTC:20260906T140000
DTSTAMP:20260426T025914
CREATED:20251105T183455Z
LAST-MODIFIED:20251114T173933Z
UID:5018-1788703200-1788703200@darkschlager.de
SUMMARY:Der große Schlagernachmittag mit Liane & Reiner Kirsten
DESCRIPTION:Sonntag: 06.09.2026 Schussenrieder Bierkrugstadel   \nEinlass: 13:00 Uhr Beginn: 14:00 Uhr \nmit dabei: \nLiane\nReiner Kirsten \nAm Sonntag\, 06. September 2026 ist in Bad Schussenried Schlager angesagt. Das Schussenrieder Bierkrugmuseum lädt zum musikalischen Nachmittag von 14 bis 17 Uhr in den Bierkrugstadel mit Liane und Reiner Kirsten ein. Schlager treffen ins Herz\, berühren das Gemüt. Deutlicher geht es nicht\, wie Liane und Reiner Kirsten eindeutig beweisen. Durch die musikalische Vielfalt der Hits\, auch aus der Zeit des Wirtschaftswunders\, nehmen Liane und Reiser Kirsten das Publikum mit auf eine ganz besondere musikalische Zeitreise. „Wir lieben das Leben\, wir leben den Spaß und die Freude\, wir stehen unendlich gerne auf der Bühne und begeistern alle mit unserer Musik“! So die beiden Schlager-Stars Liane und Reiner Kirsten. Genießen Sie beim Konzert ihre großen Hits und die schönsten Schlagerduette. Liane und Reiner Kirsten singen deutschen Schlager\, aber auch den volkstümlichen Schlager haben sie in ihrem Repertoire mit dabei. Erleben Sie die sympathische Sängerin und den charmanten Sänger live und zum Greifen nah! Liane und Reiner Kirsten versprühen eine ganz besondere Konzertatmosphäre. Spüren Sie die Musik\, lassen Sie die Stimmen unter die Haut gehen und erleben Sie die Eleganz und ihren Optimismus – Liane und Reiner Kirsten begeistern einfach alle! \nDer Einlass ist um 13.30 Uhr\, die Veranstaltung beginnt um 14 Uhr. Das Programm endet um 17 Uhr. Wer dabei sein möchte\, kann sich sein Ticket im Vorverkauf unter der Telefonnummer 07583 / 404-11\, per E-Mail an reservierung@schussenrieder.de oder online auf: \nhttps://www.schussenrieder.de/de/veranstaltungen/termine/Schlagernachmittag2026.php kaufen \nDas Kartenkontingent ist begrenzt. FREIE PLATZWAHL! \nÄnderungen und Irrtümer vorbehalten! Änderungen vom Veranstaltungstermin oder des Veranstaltungsorts sind dem Veranstalter vorbehalten. Alle Angaben ohne Gewähr. Für nähere Angaben kontaktieren Sie bitte den Veranstalter oder dessen Homepage bevor Sie eine Veranstaltung besuchen.
URL:https://darkschlager.de/event/der-grosse-schlagernachmittag-mit-liane-reiner-kirsten/
LOCATION:Schussenrieder Bierkrugstadel\, Wilhelm-Schussen-Str. 12\, Bad Schussenried\, 88427
ATTACH;FMTTYPE=image/jpeg:https://darkschlager.de/wp-content/uploads/2025/11/neu-schlagernachmittag-2026.jpg
END:VEVENT
BEGIN:VEVENT
DTSTART;TZID=UTC:20261017T193000
DTEND;TZID=UTC:20261017T193000
DTSTAMP:20260426T025914
CREATED:20251116T144414Z
LAST-MODIFIED:20251116T144414Z
UID:5069-1792265400-1792265400@darkschlager.de
SUMMARY:Kächeles                            "20 Jahre Kächeles"
DESCRIPTION:Samstag: 17.10.2026 Schussenrieder Bierkrugstadel   \nEinlass: 18:00 Uhr Beginn: 19:30 Uhr \n  \nDas schwäbische Kabarett-Duo zu Gast im Schussenrieder Bierkrugstadel \nBad Schussenried\, im März 2025: Am Samstag\, 17. Oktober 2026 darf wieder einmal herzlich gelacht werden. Denn im Bierkrugstadel der Schussenrieder Brauerei Ott ist das Comedy Pärchen „Kächeles“ zu Gast in Bad Schussenried. Die Kächeles sind nicht ohne Grund eines der erfolgreichsten schwäbischen Bühnen-Duos. Sie begeistern mit treffend charakterisierten Figuren und umwerfender Situationskomik. Ihre Dialoge\, mitten aus dem Leben gegriffen\, sprühen vor frechen Pointen. Die Themen finden sie im Alltäglichen wie Warteschlangen-Albträumen und Kelleraufräumen\, im Zeitgeistigen wie Heidi Klum und WhatsApp oder im Ausgefallenen wie dem Besuch im Schickimicki-Gourmet-Restaurant. Die Kächeles – zwei Schwaben\, die nicht miteinander\, aber auf gar keinen Fall ohne einander können. Hier prallen zwei völlig gegensätzliche Charaktere frontal aufeinander: Der unbändige feminine Drang nach Umtriebigkeit trifft ungebremst auf ungetrübte Gemütlichkeit und den elementaren Wunsch nach schlaffer Bauchlage auf dem heimischen Sofa. Das schwäbische Comedy-Duo steht für Comedy-Hochgenuss und ein Pointenfeuerwerk der Extraklasse! \nFür das leibliche Wohl sorgt das Team der Brauereigaststätte mit schwäbischen Spezialitäten und fassfrischen Bieren. Karten sind im Vorverkauf für 25\,00 € zzgl. VVK Gebühr im Schussenrieder Bierkrugmuseum unter www.schussenrieder.de\, per E-Mail an reservierung@schussenrieder.de oder unter Tel. 07583/404-11 ab sofort erhältlich. FREIE PLATZWAHL!  \nÄnderungen und Irrtümer vorbehalten! Änderungen vom Veranstaltungstermin oder des Veranstaltungsorts sind dem Veranstalter vorbehalten. Alle Angaben ohne Gewähr. Für nähere Angaben kontaktieren Sie bitte den Veranstalter oder dessen Homepage bevor Sie eine Veranstaltung besuchen.
URL:https://darkschlager.de/event/kaecheles-20-jahre-kaecheles/
LOCATION:Schussenrieder Bierkrugstadel\, Wilhelm-Schussen-Str. 12\, Bad Schussenried\, 88427
ATTACH;FMTTYPE=image/jpeg:https://darkschlager.de/wp-content/uploads/2025/11/kaecheles2026.jpg
END:VEVENT
BEGIN:VEVENT
DTSTART;TZID=UTC:20261121T200000
DTEND;TZID=UTC:20261121T200000
DTSTAMP:20260426T025914
CREATED:20251116T142407Z
LAST-MODIFIED:20251116T144504Z
UID:5062-1795291200-1795291200@darkschlager.de
SUMMARY:Wommy Wonder                        "Aber hallo"
DESCRIPTION:Samstag: 21.11.2026 Schussenrieder Bierkrugstadel   \nEinlass: 18:00 Uhr Beginn: 20:00 Uhr \n  \nAber hallo! Kabarett\, Comedy\, Travestie und Chanson mit Frl. Wommy Wonder und Elfriede Schäufele \nzu Gast im Schussenrieder Bierkrugstadel \nAm Samstag\, 21. November 2026 darf wieder einmal herzlich gelacht werden. Denn im Bierkrugstadel der Schussenrieder Brauerei Ott ist Fräulein Wommy Wonder zu Gast in Bad Schussenried.  \nNachdem das kompakte Stuttgarter Vorzeigefräulein 2024 das 40-jährige Bühnenjubiläum feiern durfte\, geht’s jetzt frisch gestärkt in ein neues Bühnenjahrzehnt mit Kabarett\, Comedy\, Travestie und Chanson\, in dem das Fräulein sich neu erfindet und ungewohnte Pfade einschlägt\, ohne ihr Grundkonzept dabei aus den Augen zu verlieren\, denn „Lachen ist die letzte Waffe\, die uns bleibt\, wenn wir alles andere zum Heulen finden“. \nWeiterhin wird’s daher Unterhaltung mit Haltung geben mit einem Feuerwerk der guten Laune. Wommy sorgt neben Elfriede Schäufele\, der Kultraumpflegerin aus den SWR-Faschingssendungen\, für Stimmung\, und wer herzlich lachen und dabei das Niveau nicht aus den Augen verlieren will\, ist hier goldrichtig. Pointen gibt’s im Stakkato mit einer Gagdichte\, die man selten findet. Willkommen bei leichter Unterhaltung mit Tiefgang für Herz\, Hirn und Zwerchfell – immer nah am Leben und am Puls der Zeit. \nWir freuen uns auf wonder-bare Abende\, seien Sie dabei! \nFür das leibliche Wohl sorgt das Team der Brauereigaststätte mit schwäbischen Spezialitäten und fassfrischen Bieren. Karten sind im Vorverkauf für 20\,00 € zzgl. VVK Gebühr im Schussenrieder Bierkrugmuseum unter www.schussenrieder.de\, per E-Mail an reservierung@schussenrieder.de oder unter Tel. 07583/404-11 ab sofort erhältlich. FREIE PLATZWAHL! \nÄnderungen und Irrtümer vorbehalten! Änderungen vom Veranstaltungstermin oder des Veranstaltungsorts sind dem Veranstalter vorbehalten. Alle Angaben ohne Gewähr. Für nähere Angaben kontaktieren Sie bitte den Veranstalter oder dessen Homepage bevor Sie eine Veranstaltung besuchen.
URL:https://darkschlager.de/event/wommy-wonder-aber-hallo/
LOCATION:Schussenrieder Bierkrugstadel\, Wilhelm-Schussen-Str. 12\, Bad Schussenried\, 88427
ATTACH;FMTTYPE=image/jpeg:https://darkschlager.de/wp-content/uploads/2025/11/Wommy-Wonder-2026-Flyer1.jpg
END:VEVENT
END:VCALENDAR